Package: curatedAdipoChIP Version: 1.26.0 Command: /home/biocbuild/bbs-3.22-bioc/R/bin/R CMD INSTALL curatedAdipoChIP StartedAt: 2025-11-25 11:00:30 -0500 (Tue, 25 Nov 2025) EndedAt: 2025-11-25 11:00:56 -0500 (Tue, 25 Nov 2025) EllapsedTime: 26.6 seconds RetCode: 0 Status: OK