Package: curatedAdipoChIP Version: 1.26.0 Command: /home/biocbuild/bbs-3.22-bioc/R/bin/R CMD build --keep-empty-dirs --no-resave-data curatedAdipoChIP StartedAt: 2025-11-25 11:11:31 -0500 (Tue, 25 Nov 2025) EndedAt: 2025-11-25 11:13:20 -0500 (Tue, 25 Nov 2025) EllapsedTime: 109.2 seconds RetCode: 0 Status: OK PackageFile: curatedAdipoChIP_1.26.0.tar.gz PackageFileSize: 140.6 KiB