Package: clustifyrdatahub Version: 1.20.0 Maintainer: Kent Riemondy MaintainerEmail: kent.riemondy at cuanschutz.edu git_url: https://git.bioconductor.org/packages/clustifyrdatahub git_branch: RELEASE_3_22 git_last_commit: d009ec9 git_last_commit_date: 2025-10-29 10:02:44 -0500 (Wed, 29 Oct 2025)