Package: chromstaRData Version: 1.36.0 Command: /home/biocbuild/bbs-3.22-bioc/R/bin/R CMD INSTALL chromstaRData StartedAt: 2025-11-25 10:55:31 -0500 (Tue, 25 Nov 2025) EndedAt: 2025-11-25 10:55:33 -0500 (Tue, 25 Nov 2025) EllapsedTime: 1.7 seconds RetCode: 0 Status: OK