Package: chromstaRData Version: 1.36.0 Command: /home/biocbuild/bbs-3.22-bioc/R/bin/R CMD build --keep-empty-dirs --no-resave-data chromstaRData StartedAt: 2025-11-25 11:10:01 -0500 (Tue, 25 Nov 2025) EndedAt: 2025-11-25 11:10:11 -0500 (Tue, 25 Nov 2025) EllapsedTime: 10.0 seconds RetCode: 0 Status: OK PackageFile: chromstaRData_1.36.0.tar.gz PackageFileSize: 140.2 MiB