Package: chipseqDBData Version: 1.26.0 Maintainer: Aaron Lun MaintainerEmail: infinite.monkeys.with.keyboards at gmail.com git_url: https://git.bioconductor.org/packages/chipseqDBData git_branch: RELEASE_3_22 git_last_commit: 05d1333 git_last_commit_date: 2025-10-29 10:01:06 -0500 (Wed, 29 Oct 2025)