Package: cfToolsData Version: 1.8.0 Command: /home/biocbuild/bbs-3.22-bioc/R/bin/R CMD INSTALL cfToolsData StartedAt: 2025-11-25 10:57:17 -0500 (Tue, 25 Nov 2025) EndedAt: 2025-11-25 10:57:30 -0500 (Tue, 25 Nov 2025) EllapsedTime: 12.7 seconds RetCode: 0 Status: OK