Package: cfToolsData Version: 1.8.0 Command: /home/biocbuild/bbs-3.22-bioc/R/bin/R CMD build --keep-empty-dirs --no-resave-data cfToolsData StartedAt: 2025-11-25 11:09:33 -0500 (Tue, 25 Nov 2025) EndedAt: 2025-11-25 11:10:00 -0500 (Tue, 25 Nov 2025) EllapsedTime: 27.8 seconds RetCode: 0 Status: OK PackageFile: cfToolsData_1.8.0.tar.gz PackageFileSize: 413 KiB