Package: celldex Version: 1.20.0 Command: /home/biocbuild/bbs-3.22-bioc/R/bin/R CMD INSTALL celldex StartedAt: 2025-11-25 11:02:45 -0500 (Tue, 25 Nov 2025) EndedAt: 2025-11-25 11:03:16 -0500 (Tue, 25 Nov 2025) EllapsedTime: 31.6 seconds RetCode: 0 Status: OK