Package: cMap2data Version: 1.46.0 Command: /home/biocbuild/bbs-3.22-bioc/R/bin/R CMD INSTALL cMap2data StartedAt: 2025-11-25 10:55:16 -0500 (Tue, 25 Nov 2025) EndedAt: 2025-11-25 10:55:27 -0500 (Tue, 25 Nov 2025) EllapsedTime: 10.9 seconds RetCode: 0 Status: OK