Package: cMap2data Version: 1.46.0 Command: /home/biocbuild/bbs-3.22-bioc/R/bin/R CMD build --keep-empty-dirs --no-resave-data cMap2data StartedAt: 2025-11-25 11:10:30 -0500 (Tue, 25 Nov 2025) EndedAt: 2025-11-25 11:10:44 -0500 (Tue, 25 Nov 2025) EllapsedTime: 14.0 seconds RetCode: 0 Status: OK PackageFile: cMap2data_1.46.0.tar.gz PackageFileSize: 27.94 MiB