Package: bsseqData Version: 0.48.0 Command: /home/biocbuild/bbs-3.22-bioc/R/bin/R CMD INSTALL bsseqData StartedAt: 2025-11-25 11:01:04 -0500 (Tue, 25 Nov 2025) EndedAt: 2025-11-25 11:01:54 -0500 (Tue, 25 Nov 2025) EllapsedTime: 49.6 seconds RetCode: 0 Status: OK