Package: biscuiteerData Version: 1.24.0 Command: /home/biocbuild/bbs-3.22-bioc/R/bin/R CMD build --keep-empty-dirs --no-resave-data biscuiteerData StartedAt: 2025-11-25 11:07:57 -0500 (Tue, 25 Nov 2025) EndedAt: 2025-11-25 11:08:26 -0500 (Tue, 25 Nov 2025) EllapsedTime: 28.5 seconds RetCode: 0 Status: OK PackageFile: biscuiteerData_1.24.0.tar.gz PackageFileSize: 188.5 KiB