Package: VectraPolarisData Version: 1.14.0 Maintainer: Wrobel Julia MaintainerEmail: julia.wrobel at cuanschutz.edu git_url: https://git.bioconductor.org/packages/VectraPolarisData git_branch: RELEASE_3_22 git_last_commit: 6947fa7 git_last_commit_date: 2025-10-29 10:04:55 -0500 (Wed, 29 Oct 2025)