Package: VariantToolsData Version: 1.34.0 Maintainer: Michael Lawrence MaintainerEmail: michafla at gene.com git_url: https://git.bioconductor.org/packages/VariantToolsData git_branch: RELEASE_3_22 git_last_commit: 4bab3d5 git_last_commit_date: 2025-10-29 09:59:12 -0500 (Wed, 29 Oct 2025)