Package: TransOmicsData Version: 1.6.0 Command: /home/biocbuild/bbs-3.22-bioc/R/bin/R CMD build --keep-empty-dirs --no-resave-data TransOmicsData StartedAt: 2025-11-25 11:47:08 -0500 (Tue, 25 Nov 2025) EndedAt: 2025-11-25 11:47:22 -0500 (Tue, 25 Nov 2025) EllapsedTime: 14.5 seconds RetCode: 0 Status: OK PackageFile: TransOmicsData_1.6.0.tar.gz PackageFileSize: 232.7 KiB