Package: TMExplorer Version: 1.20.0 Command: /home/biocbuild/bbs-3.22-bioc/R/bin/R CMD INSTALL TMExplorer StartedAt: 2025-11-25 10:59:42 -0500 (Tue, 25 Nov 2025) EndedAt: 2025-11-25 11:00:07 -0500 (Tue, 25 Nov 2025) EllapsedTime: 24.7 seconds RetCode: 0 Status: OK