Package: TMExplorer Version: 1.20.0 Command: /home/biocbuild/bbs-3.22-bioc/R/bin/R CMD build --keep-empty-dirs --no-resave-data TMExplorer StartedAt: 2025-11-25 11:46:48 -0500 (Tue, 25 Nov 2025) EndedAt: 2025-11-25 11:47:37 -0500 (Tue, 25 Nov 2025) EllapsedTime: 48.4 seconds RetCode: 0 Status: OK PackageFile: TMExplorer_1.20.0.tar.gz PackageFileSize: 233.1 KiB