Package: TENxXeniumData Version: 1.6.0 Command: /home/biocbuild/bbs-3.22-bioc/R/bin/R CMD INSTALL TENxXeniumData StartedAt: 2025-11-25 11:03:02 -0500 (Tue, 25 Nov 2025) EndedAt: 2025-11-25 11:03:56 -0500 (Tue, 25 Nov 2025) EllapsedTime: 53.9 seconds RetCode: 0 Status: OK