Package: TCGAWorkflowData Version: 1.34.0 Command: /home/biocbuild/bbs-3.22-bioc/R/bin/R CMD INSTALL TCGAWorkflowData StartedAt: 2025-11-27 11:05:15 -0500 (Thu, 27 Nov 2025) EndedAt: 2025-11-27 11:06:21 -0500 (Thu, 27 Nov 2025) EllapsedTime: 66.5 seconds RetCode: 0 Status: OK