Package: SubcellularSpatialData Version: 1.6.0 Maintainer: Dharmesh D. Bhuva MaintainerEmail: dharmesh.bhuva at adelaide.edu.au git_url: https://git.bioconductor.org/packages/SubcellularSpatialData git_branch: RELEASE_3_22 git_last_commit: f596e4d git_last_commit_date: 2025-10-29 10:06:13 -0500 (Wed, 29 Oct 2025)