Package: SpikeIn Version: 1.52.0 Command: /home/biocbuild/bbs-3.22-bioc/R/bin/R CMD build --keep-empty-dirs --no-resave-data SpikeIn StartedAt: 2025-11-27 11:45:52 -0500 (Thu, 27 Nov 2025) EndedAt: 2025-11-27 11:46:04 -0500 (Thu, 27 Nov 2025) EllapsedTime: 11.9 seconds RetCode: 0 Status: OK PackageFile: SpikeIn_1.52.0.tar.gz PackageFileSize: 63.05 MiB