Package: SingleCellMultiModal Version: 1.22.0 Command: /home/biocbuild/bbs-3.22-bioc/R/bin/R CMD build --keep-empty-dirs --no-resave-data SingleCellMultiModal StartedAt: 2025-11-25 11:43:00 -0500 (Tue, 25 Nov 2025) EndedAt: 2025-11-25 11:49:04 -0500 (Tue, 25 Nov 2025) EllapsedTime: 363.8 seconds RetCode: 0 Status: OK PackageFile: SingleCellMultiModal_1.22.0.tar.gz PackageFileSize: 2.881 MiB