Package: SimBenchData Version: 1.18.0 Maintainer: Yue Cao MaintainerEmail: ycao6928 at uni.sydney.edu.au git_url: https://git.bioconductor.org/packages/SimBenchData git_branch: RELEASE_3_22 git_last_commit: 005996d git_last_commit_date: 2025-10-29 10:03:23 -0500 (Wed, 29 Oct 2025)