Package: STexampleData Version: 1.18.0 Command: /home/biocbuild/bbs-3.22-bioc/R/bin/R CMD build --keep-empty-dirs --no-resave-data STexampleData StartedAt: 2025-11-27 11:45:56 -0500 (Thu, 27 Nov 2025) EndedAt: 2025-11-27 11:47:33 -0500 (Thu, 27 Nov 2025) EllapsedTime: 96.4 seconds RetCode: 0 Status: OK PackageFile: STexampleData_1.18.0.tar.gz PackageFileSize: 611.3 KiB