Package: RnaSeqSampleSizeData Version: 1.42.0 Command: /home/biocbuild/bbs-3.22-bioc/R/bin/R CMD INSTALL RnaSeqSampleSizeData StartedAt: 2025-11-25 10:56:30 -0500 (Tue, 25 Nov 2025) EndedAt: 2025-11-25 10:56:33 -0500 (Tue, 25 Nov 2025) EllapsedTime: 2.7 seconds RetCode: 0 Status: OK