Package: RnaSeqSampleSizeData Version: 1.42.0 Command: /home/biocbuild/bbs-3.22-bioc/R/bin/R CMD build --keep-empty-dirs --no-resave-data RnaSeqSampleSizeData StartedAt: 2025-11-25 11:38:25 -0500 (Tue, 25 Nov 2025) EndedAt: 2025-11-25 11:38:32 -0500 (Tue, 25 Nov 2025) EllapsedTime: 7.0 seconds RetCode: 0 Status: OK PackageFile: RnaSeqSampleSizeData_1.42.0.tar.gz PackageFileSize: 6.036 MiB