Package: RegParallel Version: 1.28.0 Command: /home/biocbuild/bbs-3.22-bioc/R/bin/R CMD INSTALL RegParallel StartedAt: 2025-11-25 11:03:58 -0500 (Tue, 25 Nov 2025) EndedAt: 2025-11-25 11:04:06 -0500 (Tue, 25 Nov 2025) EllapsedTime: 8.7 seconds RetCode: 0 Status: OK