Package: RegParallel Version: 1.28.0 Command: /home/biocbuild/bbs-3.22-bioc/R/bin/R CMD build --keep-empty-dirs --no-resave-data RegParallel StartedAt: 2025-11-25 11:37:17 -0500 (Tue, 25 Nov 2025) EndedAt: 2025-11-25 11:44:06 -0500 (Tue, 25 Nov 2025) EllapsedTime: 409.6 seconds RetCode: 0 Status: OK PackageFile: RegParallel_1.28.0.tar.gz PackageFileSize: 643.6 KiB