Package: RUVnormalizeData Version: 1.30.0 Command: /home/biocbuild/bbs-3.22-bioc/R/bin/R CMD INSTALL RUVnormalizeData StartedAt: 2025-11-27 10:56:15 -0500 (Thu, 27 Nov 2025) EndedAt: 2025-11-27 10:56:17 -0500 (Thu, 27 Nov 2025) EllapsedTime: 1.9 seconds RetCode: 0 Status: OK