Package: RTCGA.rnaseq Version: 20151101.40.0 Command: /home/biocbuild/bbs-3.22-bioc/R/bin/R CMD INSTALL RTCGA.rnaseq StartedAt: 2025-11-25 11:04:18 -0500 (Tue, 25 Nov 2025) EndedAt: 2025-11-25 11:07:00 -0500 (Tue, 25 Nov 2025) EllapsedTime: 162.2 seconds RetCode: 0 Status: OK