Package: RGMQLlib Version: 1.30.0 Maintainer: Simone Pallotta MaintainerEmail: simonepallotta at hotmail.com git_url: https://git.bioconductor.org/packages/RGMQLlib git_branch: RELEASE_3_22 git_last_commit: f66617b git_last_commit_date: 2025-10-29 09:59:42 -0500 (Wed, 29 Oct 2025)