Package: QDNAseq.hg19 Version: 1.40.0 Command: /home/biocbuild/bbs-3.22-bioc/R/bin/R CMD INSTALL QDNAseq.hg19 StartedAt: 2025-11-25 11:02:32 -0500 (Tue, 25 Nov 2025) EndedAt: 2025-11-25 11:02:45 -0500 (Tue, 25 Nov 2025) EllapsedTime: 12.6 seconds RetCode: 0 Status: OK