Package: PhyloProfileData Version: 1.24.0 Command: /home/biocbuild/bbs-3.22-bioc/R/bin/R CMD INSTALL PhyloProfileData StartedAt: 2025-11-25 10:57:48 -0500 (Tue, 25 Nov 2025) EndedAt: 2025-11-25 10:58:03 -0500 (Tue, 25 Nov 2025) EllapsedTime: 14.3 seconds RetCode: 0 Status: OK