Package: PhyloProfileData Version: 1.24.0 Command: /home/biocbuild/bbs-3.22-bioc/R/bin/R CMD build --keep-empty-dirs --no-resave-data PhyloProfileData StartedAt: 2025-11-25 11:35:20 -0500 (Tue, 25 Nov 2025) EndedAt: 2025-11-25 11:35:50 -0500 (Tue, 25 Nov 2025) EllapsedTime: 30.2 seconds RetCode: 0 Status: OK PackageFile: PhyloProfileData_1.24.0.tar.gz PackageFileSize: 227.9 KiB