Package: PathNetData Version: 1.46.0 Maintainer: Ludwig Geistlinger MaintainerEmail: ludwig.geistlinger at gmail.com git_url: https://git.bioconductor.org/packages/PathNetData git_branch: RELEASE_3_22 git_last_commit: ceedf25 git_last_commit_date: 2025-10-29 09:52:45 -0500 (Wed, 29 Oct 2025)