Package: ObMiTi Version: 1.18.0 Command: /home/biocbuild/bbs-3.22-bioc/R/bin/R CMD build --keep-empty-dirs --no-resave-data ObMiTi StartedAt: 2025-11-25 11:33:57 -0500 (Tue, 25 Nov 2025) EndedAt: 2025-11-25 11:34:38 -0500 (Tue, 25 Nov 2025) EllapsedTime: 40.4 seconds RetCode: 0 Status: OK PackageFile: ObMiTi_1.18.0.tar.gz PackageFileSize: 46.71 KiB