Package: MetaScope Version: 1.10.0 Command: /home/biocbuild/bbs-3.22-bioc/R/bin/R CMD INSTALL MetaScope StartedAt: 2025-11-25 11:01:05 -0500 (Tue, 25 Nov 2025) EndedAt: 2025-11-25 11:01:14 -0500 (Tue, 25 Nov 2025) EllapsedTime: 9.0 seconds RetCode: 0 Status: OK