Package: MerfishData Version: 1.12.0 Command: /home/biocbuild/bbs-3.22-bioc/R/bin/R CMD INSTALL MerfishData StartedAt: 2025-11-25 10:59:25 -0500 (Tue, 25 Nov 2025) EndedAt: 2025-11-25 10:59:51 -0500 (Tue, 25 Nov 2025) EllapsedTime: 25.1 seconds RetCode: 0 Status: OK