Package: MUGAExampleData Version: 1.30.0 Command: /home/biocbuild/bbs-3.22-bioc/R/bin/R CMD build --keep-empty-dirs --no-resave-data MUGAExampleData StartedAt: 2025-11-25 11:32:12 -0500 (Tue, 25 Nov 2025) EndedAt: 2025-11-25 11:32:24 -0500 (Tue, 25 Nov 2025) EllapsedTime: 12.0 seconds RetCode: 0 Status: OK PackageFile: MUGAExampleData_1.30.0.tar.gz PackageFileSize: 88.65 MiB