Package: MUGAExampleData Version: 1.30.0 Maintainer: Daniel Gatti MaintainerEmail: Dan.Gatti at jax.org git_url: https://git.bioconductor.org/packages/MUGAExampleData git_branch: RELEASE_3_22 git_last_commit: 19c5b40 git_last_commit_date: 2025-10-29 09:55:14 -0500 (Wed, 29 Oct 2025)