Package: M3DExampleData Version: 1.36.0 Maintainer: Tallulah Andrews MaintainerEmail: tallulandrews at gmail.com git_url: https://git.bioconductor.org/packages/M3DExampleData git_branch: RELEASE_3_22 git_last_commit: 11cd50e git_last_commit_date: 2025-10-29 09:59:00 -0500 (Wed, 29 Oct 2025)