Package: LungCancerLines Version: 0.48.0 Command: /home/biocbuild/bbs-3.22-bioc/R/bin/R CMD INSTALL LungCancerLines StartedAt: 2025-11-25 11:00:38 -0500 (Tue, 25 Nov 2025) EndedAt: 2025-11-25 11:00:48 -0500 (Tue, 25 Nov 2025) EllapsedTime: 10.0 seconds RetCode: 0 Status: OK