Package: LungCancerACvsSCCGEO Version: 1.46.0 Command: /home/biocbuild/bbs-3.22-bioc/R/bin/R CMD build --keep-empty-dirs --no-resave-data LungCancerACvsSCCGEO StartedAt: 2025-11-25 11:27:22 -0500 (Tue, 25 Nov 2025) EndedAt: 2025-11-25 11:30:51 -0500 (Tue, 25 Nov 2025) EllapsedTime: 209.2 seconds RetCode: 0 Status: OK PackageFile: LungCancerACvsSCCGEO_1.46.0.tar.gz PackageFileSize: 138.6 MiB