Package: HighlyReplicatedRNASeq Version: 1.22.0 Command: /home/biocbuild/bbs-3.22-bioc/R/bin/R CMD build --keep-empty-dirs --no-resave-data HighlyReplicatedRNASeq StartedAt: 2025-11-25 11:24:00 -0500 (Tue, 25 Nov 2025) EndedAt: 2025-11-25 11:25:01 -0500 (Tue, 25 Nov 2025) EllapsedTime: 61.3 seconds RetCode: 0 Status: OK PackageFile: HighlyReplicatedRNASeq_1.22.0.tar.gz PackageFileSize: 468.5 KiB