Package: HiContactsData Version: 1.12.0 Command: /home/biocbuild/bbs-3.22-bioc/R/bin/R CMD INSTALL HiContactsData StartedAt: 2025-11-25 10:57:04 -0500 (Tue, 25 Nov 2025) EndedAt: 2025-11-25 10:57:19 -0500 (Tue, 25 Nov 2025) EllapsedTime: 14.5 seconds RetCode: 0 Status: OK