Package: HMP2Data Version: 1.24.0 Command: /home/biocbuild/bbs-3.22-bioc/R/bin/R CMD INSTALL HMP2Data StartedAt: 2025-11-25 11:00:28 -0500 (Tue, 25 Nov 2025) EndedAt: 2025-11-25 11:01:04 -0500 (Tue, 25 Nov 2025) EllapsedTime: 36.1 seconds RetCode: 0 Status: OK