Package: FlowSorted.DLPFC.450k Version: 1.46.0 Command: /home/biocbuild/bbs-3.22-bioc/R/bin/R CMD INSTALL FlowSorted.DLPFC.450k StartedAt: 2025-11-25 11:01:36 -0500 (Tue, 25 Nov 2025) EndedAt: 2025-11-25 11:02:41 -0500 (Tue, 25 Nov 2025) EllapsedTime: 64.7 seconds RetCode: 0 Status: OK