Package: FlowSorted.DLPFC.450k Version: 1.46.0 Command: /home/biocbuild/bbs-3.22-bioc/R/bin/R CMD build --keep-empty-dirs --no-resave-data FlowSorted.DLPFC.450k StartedAt: 2025-11-25 11:18:23 -0500 (Tue, 25 Nov 2025) EndedAt: 2025-11-25 11:19:38 -0500 (Tue, 25 Nov 2025) EllapsedTime: 74.8 seconds RetCode: 0 Status: OK PackageFile: FlowSorted.DLPFC.450k_1.46.0.tar.gz PackageFileSize: 123.7 MiB