Package: FlowSorted.DLPFC.450k Version: 1.46.0 Maintainer: Andrew E Jaffe MaintainerEmail: andrew.jaffe at libd.org git_url: https://git.bioconductor.org/packages/FlowSorted.DLPFC.450k git_branch: RELEASE_3_22 git_last_commit: 21b2181 git_last_commit_date: 2025-10-29 09:55:00 -0500 (Wed, 29 Oct 2025)